BEGIN:VCALENDAR
VERSION:2.0
BEGIN:VEVENT
SUMMARY:Reach out to Latino Economic Development Center Baltimore about Future Baltimore Small Business Accelerator
DESCRIPTION:Reach out to them for information about their program.\n\nDescription: A cohort-based accelerator for underrepresented small business owners in Baltimore. Provides comprehensive technical assistance alongside access to LEDC's CDFI microloan products for capital. Located at Impact Hub Baltimore, 10 E North Ave. Designed to support entrepreneurs from communities historically underserved by traditional business financing and support systems.\n\n- Phone: (202) 540-7400\n- Source: https://founder-nav.com/programs/rec3RW4f06l6RdmsC\n\n---\nBrought to you by Founder Nav, helping entrepreneurs navigate the entrepreneurial ecosystem.
DTSTART:20260425T100029Z
DTEND:20260425T103029Z
END:VEVENT
END:VCALENDAR