BEGIN:VCALENDAR
VERSION:2.0
BEGIN:VEVENT
SUMMARY:Reach out to California Asian Pacific Chamber of Commerce about Catalyst Leadership Program
DESCRIPTION:Reach out to them for information about their program.\n\nDescription: Leadership development program from the CalAsian Foundation designed to build the next generation of AAPI business and civic leaders.\n\n- Phone: (916) 446-7883\n- Email: info@calasiancc.org\n- Source: https://founder-nav.com/programs/rec35bri9HAhsHEDh\n\n---\nBrought to you by Founder Nav, helping entrepreneurs navigate the entrepreneurial ecosystem.
DTSTART:20260425T100010Z
DTEND:20260425T103010Z
END:VEVENT
END:VCALENDAR