BEGIN:VCALENDAR
VERSION:2.0
BEGIN:VEVENT
SUMMARY:Reach out to Emporia Main Street – Business Incubator about Business Consulting Services
DESCRIPTION:Reach out to them for information about their program.\n\nDescription: One-on-one business consulting provided by Emporia Main Street's team for existing and aspiring businesses in Emporia, covering market research, business strategy, financing options, and local economic development resources.\n\n- Phone: (620) 340-6430\n- Email: director@emporiamainstreet.com\n- Source: https://founder-nav.com/programs/rec31uyevgrlnCY6b\n\n---\nBrought to you by Founder Nav, helping entrepreneurs navigate the entrepreneurial ecosystem.
DTSTART:20260425T100013Z
DTEND:20260425T103013Z
END:VEVENT
END:VCALENDAR