BEGIN:VCALENDAR
VERSION:2.0
BEGIN:VEVENT
SUMMARY:Reach out to Bridgeport Regional Business Council about Leadership Greater Bridgeport
DESCRIPTION:Reach out to them for information about their program.\n\nDescription: Nine-month experiential leadership program connecting emerging leaders in the Greater Bridgeport region through community projects, site visits, and peer networking.\n\n- Phone: (203) 335-3800\n- Email: natalie@prycelessconsulting.com\n- Source: https://founder-nav.com/programs/rec31YiNrwegkViOm\n\n---\nBrought to you by Founder Nav, helping entrepreneurs navigate the entrepreneurial ecosystem.
DTSTART:20260425T100048Z
DTEND:20260425T103048Z
END:VEVENT
END:VCALENDAR