BEGIN:VCALENDAR
VERSION:2.0
BEGIN:VEVENT
SUMMARY:Reach out to SCORE Ventura County about SCORE Mentoring Program
DESCRIPTION:Reach out to them for information about their program.\n\nDescription: Provides free mentoring, resources, and workshops to help entrepreneurs and small business owners in Ventura County start, grow, and overcome challenges, with support from experienced volunteers and the backing of the U.S. Small Business Administration.\n\n- Phone: 1-800-634-0245\n- Source: https://founder-nav.com/programs/rec2zAySGM0VyyPSj\n\n---\nBrought to you by Founder Nav, helping entrepreneurs navigate the entrepreneurial ecosystem.
DTSTART:20260425T100027Z
DTEND:20260425T103027Z
END:VEVENT
END:VCALENDAR