BEGIN:VCALENDAR
VERSION:2.0
BEGIN:VEVENT
SUMMARY:Reach out to Innovation Hub (I-HUB) / Inland SoCal Accelerate Hub about Opportunity Gateway
DESCRIPTION:Reach out to them for information about their program.\n\nDescription: An intensive mentorship and acceleration program run by the UCR Innovation Hub targeting agtech, life sciences, and climate tech startups. Features rolling admissions and an investor-backed team supporting startups in Riverside, San Bernardino, and Imperial counties.\n\n- Email: aileen.luib@ucr.edu\n- Source: https://founder-nav.com/programs/rec2txl3oq91ITfis\n\n---\nBrought to you by Founder Nav, helping entrepreneurs navigate the entrepreneurial ecosystem.
DTSTART:20260425T100056Z
DTEND:20260425T103056Z
END:VEVENT
END:VCALENDAR