BEGIN:VCALENDAR
VERSION:2.0
BEGIN:VEVENT
SUMMARY:Reach out to Startup UMD about Do Good Accelerator
DESCRIPTION:Reach out to them for information about their program.\n\nDescription: An 8-week Accelerator Fellows program offered in Fall, Spring, and Summer sessions, open to all University of Maryland students and alumni with a social impact focus. Participants receive a $2K stipend. Advanced participants can apply for Scale Your Impact (year-long program) and the Do Good Challenge (prizes up to $40K). Mini-grants of $500 are also available for early-stage exploration.\n\n- Email: kisham@umd.edu\n- Source: https://founder-nav.com/programs/rec2rijmXSSx85w2T\n\n---\nBrought to you by Founder Nav, helping entrepreneurs navigate the entrepreneurial ecosystem.
DTSTART:20260425T100033Z
DTEND:20260425T103033Z
END:VEVENT
END:VCALENDAR