BEGIN:VCALENDAR
VERSION:2.0
BEGIN:VEVENT
SUMMARY:Reach out to Delaware Technology Park about DTP@STAR Incubator
DESCRIPTION:Reach out to them for information about their program.\n\nDescription: DTP@STAR is a wet laboratory incubator on the University of Delaware's STAR Campus, offering early-stage STEM entrepreneurs access to chemical and biological labs, collaboration space, office space, and shared services. The facility connects entrepreneurs to UD faculty and students, and is part of Delaware Technology Park's broader support ecosystem that has helped create 16,000+ jobs.\n\n- Phone: (302) 452-1100\n- Source: https://founder-nav.com/programs/rec2qCfZDkut5awvK\n\n---\nBrought to you by Founder Nav, helping entrepreneurs navigate the entrepreneurial ecosystem.
DTSTART:20260425T100031Z
DTEND:20260425T103031Z
END:VEVENT
END:VCALENDAR