BEGIN:VCALENDAR
VERSION:2.0
BEGIN:VEVENT
SUMMARY:Reach out to NetWork Kansas about Kansas ICE House Entrepreneurship Program
DESCRIPTION:Reach out to them for information about their program.\n\nDescription: 8-week certificate program that develops entrepreneurial mindset and skills like critical thinking, communication, and problem-solving through the Kauffman Foundation curriculum.\n\n- Phone: (877) 521-8600\n- Source: https://founder-nav.com/programs/rec2obMEzq63OnPgc\n\n---\nBrought to you by Founder Nav, helping entrepreneurs navigate the entrepreneurial ecosystem.
DTSTART:20260425T100003Z
DTEND:20260425T103003Z
END:VEVENT
END:VCALENDAR