BEGIN:VCALENDAR
VERSION:2.0
BEGIN:VEVENT
SUMMARY:Reach out to SBDC New Castle County about One-on-One Business Consulting
DESCRIPTION:Reach out to them for information about their program.\n\nDescription: Delaware SBDC's New Castle County office (Newark, UD STAR Campus) provides free, confidential one-on-one business consulting to entrepreneurs and small business owners. Advisors from diverse industry backgrounds help with business planning, financial projections, marketing, loan packaging, government grants (SBIR/STTR), and growth strategy. Consulting is available virtually and in-person.\n\n- Phone: (302) 831-1555\n- Source: https://founder-nav.com/programs/rec2jYSHEw5eycEWu\n\n---\nBrought to you by Founder Nav, helping entrepreneurs navigate the entrepreneurial ecosystem.
DTSTART:20260425T100016Z
DTEND:20260425T103016Z
END:VEVENT
END:VCALENDAR