BEGIN:VCALENDAR
VERSION:2.0
BEGIN:VEVENT
SUMMARY:Reach out to Institute for the Global Entrepreneur – UC San Diego about Global Innovation Program
DESCRIPTION:Reach out to them for information about their program.\n\nDescription: Entrepreneurship and business training for international partner companies and researchers entering the U.S. market. Programs range from a few days to 2 weeks, including customer validation, business modeling, and mentorship. Includes the Global Entrepreneur Accelerator (GEA) for startups seeking to establish U.S. market presence. Partners with Japan, Korea, and other international ecosystems.\n\n- Phone: (858) 822-1142\n- Email: IGE@ucsd.edu\n- Source: https://founder-nav.com/programs/rec2bF6vcqJEgu7rN\n\n---\nBrought to you by Founder Nav, helping entrepreneurs navigate the entrepreneurial ecosystem.
DTSTART:20260425T100005Z
DTEND:20260425T103005Z
END:VEVENT
END:VCALENDAR