BEGIN:VCALENDAR
VERSION:2.0
BEGIN:VEVENT
SUMMARY:Reach out to San Francisco SBDC about SBDC Business Advising & Mentoring
DESCRIPTION:Reach out to them for information about their program.\n\nDescription: Provides confidential, no-cost business advising, training, and resources to help entrepreneurs and small businesses start, grow, access capital, and navigate challenges at every stage of business development.\n\n- Phone: (415) 937-7232\n- Source: https://founder-nav.com/programs/rec2NwkpyGFgGTLTY\n\n---\nBrought to you by Founder Nav, helping entrepreneurs navigate the entrepreneurial ecosystem.
DTSTART:20260425T100058Z
DTEND:20260425T103058Z
END:VEVENT
END:VCALENDAR