BEGIN:VCALENDAR
VERSION:2.0
BEGIN:VEVENT
SUMMARY:Reach out to New England Ocean Cluster about Entrepreneurship in the Blue Economy (EITBE) Series
DESCRIPTION:Reach out to them for information about their program.\n\nDescription: A recurring free event series created in 2019 by the New England Ocean Cluster to share stories of ocean-focused entrepreneurs and project leaders. Each session features a curated panel of speakers on a blue economy topic, fostering connections and raising awareness across Maine's ocean community.\n\n- Phone: (207) 408-5391\n- Email: patrick.arnold@newenglandoceancluster.com\n- Source: https://founder-nav.com/programs/rec2KSFznUe0Ni6yQ\n\n---\nBrought to you by Founder Nav, helping entrepreneurs navigate the entrepreneurial ecosystem.
DTSTART:20260425T100055Z
DTEND:20260425T103055Z
END:VEVENT
END:VCALENDAR