BEGIN:VCALENDAR
VERSION:2.0
BEGIN:VEVENT
SUMMARY:Reach out to Institute for Entrepreneurship (Colorado State University) about CSU Institute for Entrepreneurship Programs
DESCRIPTION:Reach out to them for information about their program.\n\nDescription: Colorado State University's center for entrepreneurship education offering workshops, pitch competitions, mentoring, and experiential learning for students, faculty, and the Fort Collins community.\n\n- Email: csu_entrepreneurship@colostate.edu\n- Source: https://founder-nav.com/programs/rec2HsqJF2fAUDglu\n\n---\nBrought to you by Founder Nav, helping entrepreneurs navigate the entrepreneurial ecosystem.
DTSTART:20260425T100039Z
DTEND:20260425T103039Z
END:VEVENT
END:VCALENDAR