BEGIN:VCALENDAR
VERSION:2.0
BEGIN:VEVENT
SUMMARY:Reach out to Unknown Hub about Rural Nevada Roadshow
DESCRIPTION:Reach out to them for information about their program.\n\nDescription: Over the course of the year, the roadshow will visit eight different rural Nevada communities across seven counties, delivering a series of educational events. These events will deliver information on key areas crucial to business growth, such as developing business models, understanding customer needs, market sizing, and crafting compelling value propositions.\n\n- Email: cara@startupnv.org\n- Source: https://founder-nav.com/programs/rec2EVHwfSRQasQaP\n\n---\nBrought to you by Founder Nav, helping entrepreneurs navigate the entrepreneurial ecosystem.
DTSTART:20260425T100023Z
DTEND:20260425T103023Z
END:VEVENT
END:VCALENDAR