BEGIN:VCALENDAR
VERSION:2.0
BEGIN:VEVENT
SUMMARY:Reach out to Blue Startups about Blue Startups Accelerator
DESCRIPTION:Reach out to them for information about their program.\n\nDescription: Highly competitive 12-week accelerator program for tech startups, consistently ranked among the top 20 accelerators in the U.S. Focuses on SaaS, travel tech, sustainability, and Pacific Rim markets. Provides seed investment, mentorship, and access to a global investor network.\n\n- Phone: (808) 792-4080\n- Email: info@bluestartups.com\n- Source: https://founder-nav.com/programs/rec2A6VL8QL2qcj2W\n\n---\nBrought to you by Founder Nav, helping entrepreneurs navigate the entrepreneurial ecosystem.
DTSTART:20260425T100033Z
DTEND:20260425T103033Z
END:VEVENT
END:VCALENDAR