BEGIN:VCALENDAR
VERSION:2.0
BEGIN:VEVENT
SUMMARY:Reach out to Bridgeport Regional Business Council about Women's Leadership Network
DESCRIPTION:Reach out to them for information about their program.\n\nDescription: BRBC program empowering women in business through monthly networking events and leadership development focused on the Greater Bridgeport region.\n\n- Phone: (203) 335-3800\n- Email: natalie@prycelessconsulting.com\n- Source: https://founder-nav.com/programs/rec26JSBAa0c4lJRI\n\n---\nBrought to you by Founder Nav, helping entrepreneurs navigate the entrepreneurial ecosystem.
DTSTART:20260425T100022Z
DTEND:20260425T103022Z
END:VEVENT
END:VCALENDAR