BEGIN:VCALENDAR
VERSION:2.0
BEGIN:VEVENT
SUMMARY:Reach out to Murrieta Genomics about Murrieta Genomics Incubator
DESCRIPTION:Reach out to them for information about their program.\n\nDescription: A true business incubator for genomic-sequencing startups located in the 16,000 sq ft Murrieta Innovation Center. Offers dedicated bench space at near-zero cost, scientific/business mentorship, business model definition, science validation, and post-graduation seed investment. Focuses on precision medicine, agriculture, forensics, veterinary, and direct-to-consumer genomics applications.\n\n- Phone: (951) 704-6792\n- Source: https://founder-nav.com/programs/rec1wUH04eHzy4faa\n\n---\nBrought to you by Founder Nav, helping entrepreneurs navigate the entrepreneurial ecosystem.
DTSTART:20260425T100023Z
DTEND:20260425T103023Z
END:VEVENT
END:VCALENDAR