BEGIN:VCALENDAR
VERSION:2.0
BEGIN:VEVENT
SUMMARY:Reach out to MERGE Iowa City about Venture School
DESCRIPTION:Reach out to them for information about their program.\n\nDescription: 7-week entrepreneurial training program based on NSF I-Corps Lean LaunchPad methodology, helping high-potential startups validate business models through customer discovery and real-world experimentation.\n\n- Email: info@icadgroup.com\n- Source: https://founder-nav.com/programs/rec1hks1ilW9fBtAB\n\n---\nBrought to you by Founder Nav, helping entrepreneurs navigate the entrepreneurial ecosystem.
DTSTART:20260425T100058Z
DTEND:20260425T103058Z
END:VEVENT
END:VCALENDAR