BEGIN:VCALENDAR
VERSION:2.0
BEGIN:VEVENT
SUMMARY:Reach out to College of Southern Idaho SBDC  about Business Training & Workshops
DESCRIPTION:Reach out to them for information about their program.\n\nDescription: Free and low-cost business training workshops for South Central Idaho entrepreneurs, hosted at the College of Southern Idaho SBDC in Twin Falls. Topics include business startup, marketing, finance, and government contracting.\n\n- Phone: (208) 732-6450\n- Source: https://founder-nav.com/programs/rec1Y4j6LAfX8fyQL\n\n---\nBrought to you by Founder Nav, helping entrepreneurs navigate the entrepreneurial ecosystem.
DTSTART:20260425T100001Z
DTEND:20260425T103001Z
END:VEVENT
END:VCALENDAR