BEGIN:VCALENDAR
VERSION:2.0
BEGIN:VEVENT
SUMMARY:Reach out to SCORE Southeastern Connecticut – Old Saybrook about Free One-on-One Business Mentoring
DESCRIPTION:Reach out to them for information about their program.\n\nDescription: Free, confidential one-on-one business mentoring from experienced SCORE volunteers for entrepreneurs starting or growing a small business.\n\n- Phone: (860) 388-9508\n- Email: scorechapter@gmail.com\n- Source: https://founder-nav.com/programs/rec1V3Rmrvvt6tJdf\n\n---\nBrought to you by Founder Nav, helping entrepreneurs navigate the entrepreneurial ecosystem.
DTSTART:20260425T100051Z
DTEND:20260425T103051Z
END:VEVENT
END:VCALENDAR