BEGIN:VCALENDAR
VERSION:2.0
BEGIN:VEVENT
SUMMARY:Reach out to True Access Capital about H.E.R. Business Plan Competition
DESCRIPTION:Reach out to them for information about their program.\n\nDescription: The H.E.R. Business Plan Competition, organized by the Women's Business Center at True Access Capital, is an annual competition for women entrepreneurs in Delaware. One winner receives $10,000 and two runners-up receive $5,000 each. Open to women 18+ with Delaware-licensed for-profit businesses operating for at least one year.\n\n- Phone: 302-652-6774 ext. 127\n- Email: wbc@trueaccesscapital.org\n- Source: https://founder-nav.com/programs/rec1T3q3sy5XTjK85\n\n---\nBrought to you by Founder Nav, helping entrepreneurs navigate the entrepreneurial ecosystem.
DTSTART:20260425T100019Z
DTEND:20260425T103019Z
END:VEVENT
END:VCALENDAR