BEGIN:VCALENDAR
VERSION:2.0
BEGIN:VEVENT
SUMMARY:Reach out to Innovate Boise  about Solve Challenge Hackathon
DESCRIPTION:Reach out to them for information about their program.\n\nDescription: A high-energy 2-day hackathon in Boise where cross-functional teams design, prototype, and showcase innovative solutions in health, wellness, life science, and longevity sectors.\n\n- Source: https://founder-nav.com/programs/rec1OyJv12wHTXrqU\n\n---\nBrought to you by Founder Nav, helping entrepreneurs navigate the entrepreneurial ecosystem.
DTSTART:20260425T100033Z
DTEND:20260425T103033Z
END:VEVENT
END:VCALENDAR