BEGIN:VCALENDAR
VERSION:2.0
BEGIN:VEVENT
SUMMARY:Reach out to True Access Capital about Recipe for Success
DESCRIPTION:Reach out to them for information about their program.\n\nDescription: Recipe for Success is a four-session program through True Access Capital's Women's Business Center designed for aspiring food service entrepreneurs. Sessions cover licensing requirements, cost control, customer service, and foundational business management for opening and running a successful food business.\n\n- Phone: 302-652-6774 ext. 127\n- Email: wbc@trueaccesscapital.org\n- Source: https://founder-nav.com/programs/rec1K833eUlZKTCPS\n\n---\nBrought to you by Founder Nav, helping entrepreneurs navigate the entrepreneurial ecosystem.
DTSTART:20260425T100032Z
DTEND:20260425T103032Z
END:VEVENT
END:VCALENDAR