BEGIN:VCALENDAR
VERSION:2.0
BEGIN:VEVENT
SUMMARY:Reach out to CONNSTEP about Supervisor Bootcamp
DESCRIPTION:Reach out to them for information about their program.\n\nDescription: CONNSTEP's multi-session workshop series equipping new and existing manufacturing supervisors with essential leadership and management skills.\n\n- Phone: (860) 513-3200\n- Email: info@connstep.org\n- Source: https://founder-nav.com/programs/rec1Jw4y34NyvKvlb\n\n---\nBrought to you by Founder Nav, helping entrepreneurs navigate the entrepreneurial ecosystem.
DTSTART:20260425T100054Z
DTEND:20260425T103054Z
END:VEVENT
END:VCALENDAR