BEGIN:VCALENDAR
VERSION:2.0
BEGIN:VEVENT
SUMMARY:Reach out to Ciocca Center for Innovation and Entrepreneurship – Santa Clara University about Bronco Ventures Accelerator (BVA)
DESCRIPTION:Reach out to them for information about their program.\n\nDescription: Empowers entrepreneurs with tools, mentorship, and community to grow for-profit businesses, offering a focused curriculum, workshops, networking, and investment opportunities, culminating in a Demo Day pitch event for investors. No equity or tuition required.\n\n- Phone: (408) 554-4000\n- Email: ccismasflorea@scu.edu\n- Source: https://founder-nav.com/programs/rec12Hc4ASkwSZPip\n\n---\nBrought to you by Founder Nav, helping entrepreneurs navigate the entrepreneurial ecosystem.
DTSTART:20260425T100054Z
DTEND:20260425T103054Z
END:VEVENT
END:VCALENDAR