BEGIN:VCALENDAR
VERSION:2.0
BEGIN:VEVENT
SUMMARY:Reach out to Dave & Patsy Rommel Center for Entrepreneurship about Social Innovation Studio
DESCRIPTION:Reach out to them for information about their program.\n\nDescription: Provides non-profit ventures with tailored business development support, mentorship, and resources to help refine strategies, expand impact, and overcome challenges in launching and scaling within a collaborative ecosystem.\n\n- Phone: (410) 546-4348\n- Email: bkbourdeau@salisbury.edu\n- Source: https://founder-nav.com/programs/rec0pDRotD259EBw8\n\n---\nBrought to you by Founder Nav, helping entrepreneurs navigate the entrepreneurial ecosystem.
DTSTART:20260425T100049Z
DTEND:20260425T103049Z
END:VEVENT
END:VCALENDAR