BEGIN:VCALENDAR
VERSION:2.0
BEGIN:VEVENT
SUMMARY:Reach out to B1 Foundation about Governor Charles Roemer Small Business Center
DESCRIPTION:Reach out to them for information about their program.\n\nDescription: In 2023, b1 FOUNDATION opened the Governor Charles “Buddy” Roemer Small Business Center in the heart of Baton Rouge’s Mid City neighborhood.\n\n- Phone: (225) 286-7881\n- Email: b1foundation@b1bank.com\n- Source: https://founder-nav.com/programs/rec0gDMTSHCBuZ8hI\n\n---\nBrought to you by Founder Nav, helping entrepreneurs navigate the entrepreneurial ecosystem.
DTSTART:20260425T100015Z
DTEND:20260425T103015Z
END:VEVENT
END:VCALENDAR