BEGIN:VCALENDAR
VERSION:2.0
BEGIN:VEVENT
SUMMARY:Reach out to Germantown Innovation Center about Germantown Innovation Center Incubator Program
DESCRIPTION:Reach out to them for information about their program.\n\nDescription: A premier life sciences and biotech incubator at the Pinkney Innovation Campus at Montgomery College in Germantown, MD. Features wet lab space, clean rooms, and biotech facilities. Provides resident companies with flexible office/lab leases, business counseling, legal/IP/accounting assistance, educational seminars, CEO roundtables, and networking events.\n\n- Source: https://founder-nav.com/programs/rec0g8gm4BAYbD2bf\n\n---\nBrought to you by Founder Nav, helping entrepreneurs navigate the entrepreneurial ecosystem.
DTSTART:20260425T100020Z
DTEND:20260425T103020Z
END:VEVENT
END:VCALENDAR