BEGIN:VCALENDAR
VERSION:2.0
BEGIN:VEVENT
SUMMARY:Reach out to Idaho State University SBDC – Idaho Falls  about One-on-One Business Consulting
DESCRIPTION:Reach out to them for information about their program.\n\nDescription: Free, confidential one-on-one business consulting for entrepreneurs in Eastern Idaho, provided by ISU SBDC at the Idaho Innovation Center location in Idaho Falls. Covers all stages of business development.\n\n- Phone: (208) 523-1087\n- Source: https://founder-nav.com/programs/rec0ZZZqlRJkI18z6\n\n---\nBrought to you by Founder Nav, helping entrepreneurs navigate the entrepreneurial ecosystem.
DTSTART:20260425T100028Z
DTEND:20260425T103028Z
END:VEVENT
END:VCALENDAR