BEGIN:VCALENDAR
VERSION:2.0
BEGIN:VEVENT
SUMMARY:Reach out to TechXel Stamford about Venture Expert Series
DESCRIPTION:Reach out to them for information about their program.\n\nDescription: Prepares early-stage B2B ventures for angel or seed funding through mentoring, expert-led sessions, pitch practice, and investor meetings, following Silicon Valley standards. No equity is taken, and graduates are introduced to a network of venture capitalists.\n\n- Source: https://founder-nav.com/programs/rec0FNhttHX6q5uTM\n\n---\nBrought to you by Founder Nav, helping entrepreneurs navigate the entrepreneurial ecosystem.
DTSTART:20260425T100000Z
DTEND:20260425T103000Z
END:VEVENT
END:VCALENDAR