BEGIN:VCALENDAR
VERSION:2.0
BEGIN:VEVENT
SUMMARY:Reach out to Connecticut Small Business Development Center about SMARTUp Program (Entrepreneurship Training for Startups)
DESCRIPTION:Reach out to them for information about their program.\n\nDescription: CTSBDC's structured entrepreneurship training program for aspiring and early-stage entrepreneurs in CT, with multilingual support and sessions covering business fundamentals, finance, and growth.\n\n- Phone: (877) 723-2828\n- Source: https://founder-nav.com/programs/rec09MjcucmkpIAfY\n\n---\nBrought to you by Founder Nav, helping entrepreneurs navigate the entrepreneurial ecosystem.
DTSTART:20260425T100059Z
DTEND:20260425T103059Z
END:VEVENT
END:VCALENDAR