BEGIN:VCALENDAR
VERSION:2.0
BEGIN:VEVENT
SUMMARY:Reach out to Leader Valley about Leadership Accelerators
DESCRIPTION:Reach out to them for information about their program.\n\nDescription: Full-day and half-day leadership training workshops for Cedar Valley businesses and teams, covering 10 content areas to build leadership capacity at every level of an organization.\n\n- Phone: (319) 451-1325\n- Email: madi@leadervalley.org\n- Source: https://founder-nav.com/programs/rec071JlJi0hoUVMC\n\n---\nBrought to you by Founder Nav, helping entrepreneurs navigate the entrepreneurial ecosystem.
DTSTART:20260425T100045Z
DTEND:20260425T103045Z
END:VEVENT
END:VCALENDAR