BEGIN:VCALENDAR
VERSION:2.0
BEGIN:VEVENT
SUMMARY:Reach out to Unknown Hub about Summer Accelerator
DESCRIPTION:Reach out to them for information about their program.\n\nDescription: Offers an eight-week, intensive experience for UConn-affiliated startups, providing mentorship, hands-on support, pro bono business services, and non-dilutive funding to help founders launch and grow scalable ventures.\n\n- Email: alycia.chrosniak@uconn.edu\n- Source: https://founder-nav.com/programs/rec032a1e9fzlAr18\n\n---\nBrought to you by Founder Nav, helping entrepreneurs navigate the entrepreneurial ecosystem.
DTSTART:20260425T100024Z
DTEND:20260425T103024Z
END:VEVENT
END:VCALENDAR