BEGIN:VCALENDAR
VERSION:2.0
BEGIN:VEVENT
SUMMARY:Reach out to SCORE Southern Maryland about SCORE Southern Maryland Workshops & Webinars
DESCRIPTION:Reach out to them for information about their program.\n\nDescription: Offers low or no-cost training for small business owners and entrepreneurs, including live and recorded webinars, interactive workshops, and online courses on topics like marketing, business planning, government contracting, and nonprofit management.\n\n- Phone: (800) 634-0245\n- Source: https://founder-nav.com/programs/rec00Nu9q7kOETbOk\n\n---\nBrought to you by Founder Nav, helping entrepreneurs navigate the entrepreneurial ecosystem.
DTSTART:20260425T100058Z
DTEND:20260425T103058Z
END:VEVENT
END:VCALENDAR